BEGIN:VCALENDAR
VERSION:2.0
PRODID:-//Will Freund - ECPv6.15.20//NONSGML v1.0//EN
CALSCALE:GREGORIAN
METHOD:PUBLISH
X-WR-CALNAME:Will Freund
X-ORIGINAL-URL:https://willthefourth.com
X-WR-CALDESC:Events for Will Freund
REFRESH-INTERVAL;VALUE=DURATION:PT1H
X-Robots-Tag:noindex
X-PUBLISHED-TTL:PT1H
BEGIN:VTIMEZONE
TZID:America/Denver
BEGIN:DAYLIGHT
TZOFFSETFROM:-0700
TZOFFSETTO:-0600
TZNAME:MDT
DTSTART:20250309T090000
END:DAYLIGHT
BEGIN:STANDARD
TZOFFSETFROM:-0600
TZOFFSETTO:-0700
TZNAME:MST
DTSTART:20251102T080000
END:STANDARD
BEGIN:DAYLIGHT
TZOFFSETFROM:-0700
TZOFFSETTO:-0600
TZNAME:MDT
DTSTART:20260308T090000
END:DAYLIGHT
BEGIN:STANDARD
TZOFFSETFROM:-0600
TZOFFSETTO:-0700
TZNAME:MST
DTSTART:20261101T080000
END:STANDARD
BEGIN:DAYLIGHT
TZOFFSETFROM:-0700
TZOFFSETTO:-0600
TZNAME:MDT
DTSTART:20270314T090000
END:DAYLIGHT
BEGIN:STANDARD
TZOFFSETFROM:-0600
TZOFFSETTO:-0700
TZNAME:MST
DTSTART:20271107T080000
END:STANDARD
END:VTIMEZONE
BEGIN:VEVENT
DTSTART;TZID=America/Denver:20260326T161000
DTEND;TZID=America/Denver:20260326T163000
DTSTAMP:20260420T071103
CREATED:20260315T212744Z
LAST-MODIFIED:20260315T212802Z
UID:1612-1774541400-1774542600@willthefourth.com
SUMMARY:Science Cafes: Why They are Important and What We Can Do Better
DESCRIPTION:Science professionals giving presentations in public spaces play a critical role in society to build trust in institutions\, improve STEM literacy\, and develop presenters’ communication skills. Often\, these Science Cafe or Science on Tap programs lack the infrastructure\, support\, or capacity to appropriately evaluate their impact in the community. Learn about the diversity of the science café field\, the impact they have in communities\, and the importance of data collection and evaluation at these events. \nThe annual SCIENCE TALK conference\, organized by the Association of Science Communicators since 2017\, is one of the premiere meetings of the professional science communication/SciComm community. Science Talk aims to serve a wide spectrum of science communicators across the full range of their careers as we seek to be a hub for the professional community. See info on past meetings below or visit our About page to learn about ASC.
URL:https://willthefourth.com/event/science-cafes-why-they-are-important-and-what-we-can-do-better/
LOCATION:Tiffany Center – Portland\, OR
CATEGORIES:Conference
ATTACH;FMTTYPE=image/png:https://willthefourth.com/wp-content/uploads/2026/03/SessionAttendanceImage2_scien_202603_5135938_21031263.png
END:VEVENT
END:VCALENDAR